BEGIN:VCALENDAR
VERSION:2.0
BEGIN:VEVENT
LOCATION:Schubertkino 2
SUMMARY:Neue Unsicherheiten 7: Tito-Material, Somewhere Else, Draga Ljiljana
DTSTART:20260323T103000
DTEND:20260323T120500
END:VEVENT
END:VCALENDAR
