BEGIN:VCALENDAR
VERSION:2.0
BEGIN:VEVENT
LOCATION:Annenhof Kino 5
SUMMARY:Filmgeschichte Girls Will Be Boys 1: Peter, das Mädchen von der Tankstelle
DTSTART:20260319T103000
DTEND:20260319T115800
END:VEVENT
END:VCALENDAR
