BEGIN:VCALENDAR
VERSION:2.0
BEGIN:VEVENT
LOCATION:Schubertkino 2
SUMMARY:Special Duisburger Filmwoche: Uncomfortably Comfortable
DTSTART:20260320T103000
DTEND:20260320T114100
END:VEVENT
END:VCALENDAR
