BEGIN:VCALENDAR
VERSION:2.0
BEGIN:VEVENT
LOCATION:Annenhof Kino 6
SUMMARY:Wettbewerb Dokumentarfilm: Baba, What's Your Plan? / Baba, Ne Yapmayı Düşünüyorsun?
DTSTART:20260319T171500
DTEND:20260319T184400
END:VEVENT
END:VCALENDAR
