BEGIN:VCALENDAR
VERSION:2.0
BEGIN:VEVENT
LOCATION:Schubertkino 2
SUMMARY:Wettbewerb Dokumentarfilm: Baba, What's Your Plan? / Baba, Ne Yapmayı Düşünüyorsun?
DTSTART:20260320T170000
DTEND:20260320T182900
END:VEVENT
END:VCALENDAR
