BEGIN:VCALENDAR
VERSION:2.0
BEGIN:VEVENT
LOCATION:Schubertkino 1
SUMMARY:Special Duisburger Filmwoche: Baby, I Will Make You Sweat
DTSTART:20260322T140000
DTEND:20260322T150600
END:VEVENT
END:VCALENDAR
