BEGIN:VCALENDAR
VERSION:2.0
BEGIN:VEVENT
LOCATION:Rechbauer
SUMMARY:Filmgeschichte Girls Will Be Boys 2: Der Page vom Dalmasse-Hotel
DTSTART:20260320T143000
DTEND:20260320T155300
END:VEVENT
END:VCALENDAR
