BEGIN:VCALENDAR
VERSION:2.0
BEGIN:VEVENT
LOCATION:Schubertkino 1
SUMMARY:Neue Unsicherheiten 1: Höhenrausch, Knittelfeld, Berlino
DTSTART:20260319T110000
DTEND:20260319T120400
END:VEVENT
END:VCALENDAR
